BEGIN:VCALENDAR
VERSION:2.0
PRODID:-//demosphere.net//NONSGML kigkonsult.se iCalcreator 2.22.1//
METHOD:REQUEST
X-WR-TIMEZONE:Europe/Athens
BEGIN:VEVENT
UID:https://thessaloniki.kinimatorama.net/event/181133
DTSTAMP:20250927T180000Z
DESCRIPTION:περισσότερες πληροφορίες: https://thessaloniki.kinimatorama.net
 /event/181133 
DTSTART:20250927T180000Z
DTEND:20250927T190000Z
GEO:+38.241577;+21.741262
LOCATION:Πάτρα\, \nΑυτοδιαχειριζόμενος χώρος Τέχνασμα \nΓερμανού 93 και Μπο
 υκαούρη
SUMMARY:Open live jam
URL:https://thessaloniki.kinimatorama.net/event/181133
END:VEVENT
END:VCALENDAR
