BEGIN:VCALENDAR
VERSION:2.0
PRODID:-//demosphere.net//NONSGML kigkonsult.se iCalcreator 2.22.1//
METHOD:REQUEST
X-WR-TIMEZONE:Europe/Athens
BEGIN:VEVENT
UID:https://thessaloniki.kinimatorama.net/event/181259
DTSTAMP:20251002T060000Z
DESCRIPTION:περισσότερες πληροφορίες: https://thessaloniki.kinimatorama.net
 /event/181259 
DTSTART:20251002T060000Z
DTEND:20251002T070000Z
GEO:+40.639326;+22.932823
LOCATION:Θεσσαλονίκη\, \nΔικαστήρια Θεσσαλονίκης
SUMMARY:Κάλεσμα στήριξης στα συλληφθέντα της 6ης δεκέμβρη 2024
URL:https://thessaloniki.kinimatorama.net/event/181259
END:VEVENT
END:VCALENDAR
