BEGIN:VCALENDAR
VERSION:2.0
PRODID:-//demosphere.net//NONSGML kigkonsult.se iCalcreator 2.22.1//
METHOD:REQUEST
X-WR-TIMEZONE:Europe/Athens
BEGIN:VEVENT
UID:https://thessaloniki.kinimatorama.net/event/181498
DTSTAMP:20251003T140000Z
DESCRIPTION:περισσότερες πληροφορίες: https://thessaloniki.kinimatorama.net
 /event/181498 
DTSTART:20251003T140000Z
DTEND:20251003T150000Z
GEO:+37.969017;+23.780422
LOCATION:Ζωγράφου\, \nΑναρχικό Στέκι Φιλοσοφικής \nαίθουσα 819\, 8ος όροφος
  \nΠανεπιστημιούπολη Ζωγράφου
SUMMARY:Kάλεσμα σε ανοιχτή συζήτηση για την αναγκαιότητα της αναρχικής οργά
 νωσης
URL:https://thessaloniki.kinimatorama.net/event/181498
END:VEVENT
END:VCALENDAR
