BEGIN:VCALENDAR
VERSION:2.0
PRODID:-//demosphere.net//NONSGML kigkonsult.se iCalcreator 2.22.1//
METHOD:REQUEST
X-WR-TIMEZONE:Europe/Athens
BEGIN:VEVENT
UID:https://thessaloniki.kinimatorama.net/event/181748
DTSTAMP:20251030T160000Z
DESCRIPTION:περισσότερες πληροφορίες: https://thessaloniki.kinimatorama.net
 /event/181748 
DTSTART:20251030T160000Z
DTEND:20251030T170000Z
GEO:+37.994079;+23.732083
LOCATION:Αθήνα\, \nΑΣΟΕΕ \nΠατησίων 76 (28ης Οκτωβρίου) \n(πλησίον σταθμού 
 ΗΣΑΠ Βικτώρια)
SUMMARY:(αλλαγή τοποθεσίας) Εκδήλωση με θεματική την Επαναστατική μνήμη
URL:https://thessaloniki.kinimatorama.net/event/181748
END:VEVENT
END:VCALENDAR
