BEGIN:VCALENDAR
VERSION:2.0
PRODID:-//demosphere.net//NONSGML kigkonsult.se iCalcreator 2.22.1//
METHOD:REQUEST
X-WR-TIMEZONE:Europe/Athens
BEGIN:VEVENT
UID:https://thessaloniki.kinimatorama.net/event/181837
DTSTAMP:20251011T090000Z
DESCRIPTION:περισσότερες πληροφορίες: https://thessaloniki.kinimatorama.net
 /event/181837 
DTSTART:20251011T090000Z
DTEND:20251011T100000Z
GEO:+38.006049;+23.725857
LOCATION:Αθήνα\, \nΜανουσογιάννη 6 \nΆγιος Νικόλαος \n(3' περπάτημα από στα
 θμό ΗΣΑΠ ΑΓ.ΝΙΚΟΛΑΟΣ)
SUMMARY:Μπαζάρ οικ. στήριξης σεξεργαζόμενου ατόμου - Soli bazaar in support
  of a sex worker
URL:https://thessaloniki.kinimatorama.net/event/181837
END:VEVENT
END:VCALENDAR
