BEGIN:VCALENDAR
VERSION:2.0
PRODID:-//demosphere.net//NONSGML kigkonsult.se iCalcreator 2.22.1//
METHOD:REQUEST
X-WR-TIMEZONE:Europe/Athens
BEGIN:VEVENT
UID:https://thessaloniki.kinimatorama.net/event/181838
DTSTAMP:20251006T060000Z
DESCRIPTION:περισσότερες πληροφορίες: https://thessaloniki.kinimatorama.net
 /event/181838 
DTSTART:20251006T060000Z
DTEND:20251006T070000Z
GEO:+37.995376;+23.743086
LOCATION:Αθήνα\, \nΔικαστήρια Ευελπίδων
SUMMARY:Στήριξη της συγκέντρωσης για τη δίκη του Ελαιώνα
URL:https://thessaloniki.kinimatorama.net/event/181838
END:VEVENT
END:VCALENDAR
