BEGIN:VCALENDAR
VERSION:2.0
PRODID:-//demosphere.net//NONSGML kigkonsult.se iCalcreator 2.22.1//
METHOD:REQUEST
X-WR-TIMEZONE:Europe/Athens
BEGIN:VEVENT
UID:https://thessaloniki.kinimatorama.net/event/181897
DTSTAMP:20251009T160000Z
DESCRIPTION:περισσότερες πληροφορίες: https://thessaloniki.kinimatorama.net
 /event/181897 
DTSTART:20251009T160000Z
DTEND:20251009T170000Z
GEO:+40.633903;+22.95648
LOCATION:Θεσσαλονίκη\, \nΣχολή Θετικών Επιστημών (ΣΘΕ) ΑΠΘ
SUMMARY:Ανοιχτή Συνέλευση Αλληλεγγύης στα διωκόμενα συντρόφια της υπ.Αμπελο
 κήπων
URL:https://thessaloniki.kinimatorama.net/event/181897
END:VEVENT
END:VCALENDAR
