BEGIN:VCALENDAR
VERSION:2.0
PRODID:-//demosphere.net//NONSGML kigkonsult.se iCalcreator 2.22.1//
METHOD:REQUEST
X-WR-TIMEZONE:Europe/Athens
BEGIN:VEVENT
UID:https://thessaloniki.kinimatorama.net/event/182174
DTSTAMP:20251015T180000Z
DESCRIPTION:περισσότερες πληροφορίες: https://thessaloniki.kinimatorama.net
 /event/182174 
DTSTART:20251015T180000Z
DTEND:20251015T190000Z
GEO:+37.984156;+23.735238
LOCATION:Αθήνα\, \nΑυτοδιαχειριζόμενο Πάρκο Ναυαρίνου \nΝαυαρίνου & Ζωοδόχο
 υ Πηγής \nΕξάρχεια
SUMMARY:Μερες οργης dies irae στο πάρκο Ναυαρίνου
URL:https://thessaloniki.kinimatorama.net/event/182174
END:VEVENT
END:VCALENDAR
