BEGIN:VCALENDAR
VERSION:2.0
PRODID:-//demosphere.net//NONSGML kigkonsult.se iCalcreator 2.22.1//
METHOD:REQUEST
X-WR-TIMEZONE:Europe/Athens
BEGIN:VEVENT
UID:https://thessaloniki.kinimatorama.net/event/182205
DTSTAMP:20251017T160000Z
DESCRIPTION:περισσότερες πληροφορίες: https://thessaloniki.kinimatorama.net
 /event/182205 
DTSTART:20251017T160000Z
DTEND:20251017T170000Z
GEO:+37.968612;+23.746455
LOCATION:Αθήνα\, \nΆλσος Παγκρατίου \nΣπ.Μερκούρη & Ευτυχίδου \n(Τρόλεϊ 2\,
 11 - Λεωφορεία 203\,204\,204B\,211 \nστάση ΑΛΣΟΣ)
SUMMARY:SOS Zαγόρι: Ενημέρωση για τα υδροηλεκτρικά στην Ήπειρο
URL:https://thessaloniki.kinimatorama.net/event/182205
END:VEVENT
END:VCALENDAR
