BEGIN:VCALENDAR
VERSION:2.0
PRODID:-//demosphere.net//NONSGML kigkonsult.se iCalcreator 2.22.1//
METHOD:REQUEST
X-WR-TIMEZONE:Europe/Athens
BEGIN:VEVENT
UID:https://thessaloniki.kinimatorama.net/event/182370
DTSTAMP:20251020T060000Z
DESCRIPTION:περισσότερες πληροφορίες: https://thessaloniki.kinimatorama.net
 /event/182370 
DTSTART:20251020T060000Z
DTEND:20251020T070000Z
GEO:+40.639326;+22.932823
LOCATION:Θεσσαλονίκη\, \nΔικαστήρια Θεσσαλονίκης
SUMMARY:Συγκέντρωση αλληλεγγύης για υπόθεση έμφυλης βίας
URL:https://thessaloniki.kinimatorama.net/event/182370
END:VEVENT
END:VCALENDAR
