BEGIN:VCALENDAR
VERSION:2.0
PRODID:-//demosphere.net//NONSGML kigkonsult.se iCalcreator 2.22.1//
METHOD:REQUEST
X-WR-TIMEZONE:Europe/Athens
BEGIN:VEVENT
UID:https://thessaloniki.kinimatorama.net/event/182485
DTSTAMP:20251027T170000Z
DESCRIPTION:περισσότερες πληροφορίες: https://thessaloniki.kinimatorama.net
 /event/182485 
DTSTART:20251027T170000Z
DTEND:20251027T180000Z
GEO:+40.633903;+22.95648
LOCATION:Θεσσαλονίκη\, \nΣχολή Θετικών Επιστημών (ΣΘΕ) ΑΠΘ
SUMMARY:Ανοιχτή αντιφασιστική συνέλευση αλληλεγγύης στους/στις μετανάστες/σ
 τριες
URL:https://thessaloniki.kinimatorama.net/event/182485
END:VEVENT
END:VCALENDAR
