BEGIN:VCALENDAR
VERSION:2.0
PRODID:-//demosphere.net//NONSGML kigkonsult.se iCalcreator 2.22.1//
METHOD:REQUEST
X-WR-TIMEZONE:Europe/Athens
BEGIN:VEVENT
UID:https://thessaloniki.kinimatorama.net/event/182608
DTSTAMP:20251026T163000Z
DESCRIPTION:περισσότερες πληροφορίες: https://thessaloniki.kinimatorama.net
 /event/182608 
DTSTART:20251026T163000Z
DTEND:20251026T173000Z
GEO:+40.639326;+22.932823
LOCATION:Θεσσαλονίκη\, \nΔικαστήρια Θεσσαλονίκης
SUMMARY:Πανελλαδική Δράση για το κρατικό έγκλημα στα Τέμπη-Τ57 Θεσσαλονίκης
URL:https://thessaloniki.kinimatorama.net/event/182608
END:VEVENT
END:VCALENDAR
