BEGIN:VCALENDAR
VERSION:2.0
PRODID:-//demosphere.net//NONSGML kigkonsult.se iCalcreator 2.22.1//
METHOD:REQUEST
X-WR-TIMEZONE:Europe/Athens
BEGIN:VEVENT
UID:https://thessaloniki.kinimatorama.net/event/182642
DTSTAMP:20251025T100000Z
DESCRIPTION:περισσότερες πληροφορίες: https://thessaloniki.kinimatorama.net
 /event/182642 
DTSTART:20251025T100000Z
DTEND:20251025T110000Z
GEO:+38.00095;+23.737762
LOCATION:Αθήνα\, \nΔημοτική Αγορά Κυψέλης \nΦωκίωνος Νέγρη 42
SUMMARY:Μικροφωνική Συγκέντρωση για τον Κυριάκο Ξυμητήρη & την υπόθεση των 
 Αμπελοκήπων
URL:https://thessaloniki.kinimatorama.net/event/182642
END:VEVENT
END:VCALENDAR
