BEGIN:VCALENDAR
VERSION:2.0
PRODID:-//demosphere.net//NONSGML kigkonsult.se iCalcreator 2.22.1//
METHOD:REQUEST
X-WR-TIMEZONE:Europe/Athens
BEGIN:VEVENT
UID:https://thessaloniki.kinimatorama.net/event/18281
DTSTAMP:20120321T013300Z
DESCRIPTION:περισσότερες πληροφορίες: https://thessaloniki.kinimatorama.net
 /event/18281 
DTSTART;VALUE=DATE:20120321
GEO:+39.608422;+19.920036
LOCATION:Κέρκυρα\, \nΚατάληψη Ελαία \nΙνστιτούτο ελαίας \nΔαίρπφελδ & Αγίων
  Θεοδώρων \nΜον Ρεπό \nΓαρίτσα
SUMMARY:Μάθημα στο Κεφάλαιο του Μαρξ
URL:https://thessaloniki.kinimatorama.net/event/18281
END:VEVENT
END:VCALENDAR
