BEGIN:VCALENDAR
VERSION:2.0
PRODID:-//demosphere.net//NONSGML kigkonsult.se iCalcreator 2.22.1//
METHOD:REQUEST
X-WR-TIMEZONE:Europe/Athens
BEGIN:VEVENT
UID:https://thessaloniki.kinimatorama.net/event/183341
DTSTAMP:20251112T160000Z
DESCRIPTION:περισσότερες πληροφορίες: https://thessaloniki.kinimatorama.net
 /event/183341 
DTSTART:20251112T160000Z
DTEND:20251112T170000Z
GEO:+40.633903;+22.95648
LOCATION:Θεσσαλονίκη\, \nΣχολή Θετικών Επιστημών (ΣΘΕ) ΑΠΘ
SUMMARY:Συνέλευση για την διοργάνωση εκδηλώσεων μνήμης στο σύντροφο Κ. Ξυμη
 τήρη
URL:https://thessaloniki.kinimatorama.net/event/183341
END:VEVENT
END:VCALENDAR
