BEGIN:VCALENDAR
VERSION:2.0
PRODID:-//demosphere.net//NONSGML kigkonsult.se iCalcreator 2.22.1//
METHOD:REQUEST
X-WR-TIMEZONE:Europe/Athens
BEGIN:VEVENT
UID:https://thessaloniki.kinimatorama.net/event/183520
DTSTAMP:20251116T130000Z
DESCRIPTION:περισσότερες πληροφορίες: https://thessaloniki.kinimatorama.net
 /event/183520 
DTSTART:20251116T130000Z
DTEND:20251116T140000Z
GEO:+38.006049;+23.725857
LOCATION:Αθήνα\, \nΜανουσογιάννη 6 \nΆγιος Νικόλαος \n(3' περπάτημα από στα
 θμό ΗΣΑΠ ΑΓ.ΝΙΚΟΛΑΟΣ)
SUMMARY:[GR/ENG] 25η Συνέλευση Αυτοοργανωμένου Trans Pride Αθήνας
URL:https://thessaloniki.kinimatorama.net/event/183520
END:VEVENT
END:VCALENDAR
