BEGIN:VCALENDAR
VERSION:2.0
PRODID:-//demosphere.net//NONSGML kigkonsult.se iCalcreator 2.22.1//
METHOD:REQUEST
X-WR-TIMEZONE:Europe/Athens
BEGIN:VEVENT
UID:https://thessaloniki.kinimatorama.net/event/18395
DTSTAMP:20120321T180000Z
DESCRIPTION:περισσότερες πληροφορίες: https://thessaloniki.kinimatorama.net
 /event/18395 
DTSTART:20120321T180000Z
DTEND:20120321T190000Z
GEO:+38.00095;+23.737762
LOCATION:Αθήνα\, \nΔημοτική Αγορά Κυψέλης \nΦωκίωνος Νέγρη 42
SUMMARY:Προβολή:  Η Εκπομπή  & Ο Μπαμπάς μου\, ο Λένιν και ο Φρέντυ
URL:https://thessaloniki.kinimatorama.net/event/18395
END:VEVENT
END:VCALENDAR
