BEGIN:VCALENDAR
VERSION:2.0
PRODID:-//demosphere.net//NONSGML kigkonsult.se iCalcreator 2.22.1//
METHOD:REQUEST
X-WR-TIMEZONE:Europe/Athens
BEGIN:VEVENT
UID:https://thessaloniki.kinimatorama.net/event/184080
DTSTAMP:20251201T170000Z
DESCRIPTION:περισσότερες πληροφορίες: https://thessaloniki.kinimatorama.net
 /event/184080 
DTSTART:20251201T170000Z
DTEND:20251201T180000Z
GEO:+40.633903;+22.95648
LOCATION:Θεσσαλονίκη\, \nΣχολή Θετικών Επιστημών (ΣΘΕ) ΑΠΘ
SUMMARY:Ανοιχτή αντιφασιστική συνέλευση αλληλεγγύης στους/ις μετανάστ(ρι)ες
URL:https://thessaloniki.kinimatorama.net/event/184080
END:VEVENT
END:VCALENDAR
