BEGIN:VCALENDAR
VERSION:2.0
PRODID:-//demosphere.net//NONSGML kigkonsult.se iCalcreator 2.22.1//
METHOD:REQUEST
X-WR-TIMEZONE:Europe/Athens
BEGIN:VEVENT
UID:https://thessaloniki.kinimatorama.net/event/184110
DTSTAMP:20251214T163000Z
DESCRIPTION:περισσότερες πληροφορίες: https://thessaloniki.kinimatorama.net
 /event/184110 
DTSTART:20251214T163000Z
DTEND:20251214T173000Z
GEO:+37.904202;+23.751378
LOCATION:Αργυρούπολη\, \nΥπόστεγο \n(Αυτοδιαχειριζόμενο Στέκι Αργυρούπολης)
  \n25ης Μαρτίου 38 \n(πλησίον σταθμού Μετρό ΑΡΓΥΡΟΥΠΟΛΗ)
SUMMARY:Εκδήλωση | 10 χρόνια από τη μάχη ενάντια στην «Κόκκινη Νύχτα» της Γ
 λυφάδας
URL:https://thessaloniki.kinimatorama.net/event/184110
END:VEVENT
END:VCALENDAR
