BEGIN:VCALENDAR
VERSION:2.0
PRODID:-//demosphere.net//NONSGML kigkonsult.se iCalcreator 2.22.1//
METHOD:REQUEST
X-WR-TIMEZONE:Europe/Athens
BEGIN:VEVENT
UID:https://thessaloniki.kinimatorama.net/event/184182
DTSTAMP:20251207T160000Z
DESCRIPTION:περισσότερες πληροφορίες: https://thessaloniki.kinimatorama.net
 /event/184182 
DTSTART:20251207T160000Z
DTEND:20251207T170000Z
GEO:+37.904202;+23.751378
LOCATION:Αργυρούπολη\, \nΥπόστεγο \n(Αυτοδιαχειριζόμενο Στέκι Αργυρούπολης)
  \n25ης Μαρτίου 38 \n(πλησίον σταθμού Μετρό ΑΡΓΥΡΟΥΠΟΛΗ)
SUMMARY:Κύκλος εκδηλώσεων σε σχέση με την Τεχνητή Νοημοσύνη (vol. 1): Ιστορ
 ία και Τεχνική
URL:https://thessaloniki.kinimatorama.net/event/184182
END:VEVENT
END:VCALENDAR
