BEGIN:VCALENDAR
VERSION:2.0
PRODID:-//demosphere.net//NONSGML kigkonsult.se iCalcreator 2.22.1//
METHOD:REQUEST
X-WR-TIMEZONE:Europe/Athens
BEGIN:VEVENT
UID:https://thessaloniki.kinimatorama.net/event/18431
DTSTAMP:20120324T100000Z
DESCRIPTION:περισσότερες πληροφορίες: https://thessaloniki.kinimatorama.net
 /event/18431 
DTSTART:20120324T100000Z
DTEND:20120324T110000Z
GEO:+37.97569;+23.772792
LOCATION:Ζωγράφου\, \nΠάρκο Ειρήνης \nείσοδος από οδό Γ.Ζωγράφου 13 \nΛεωφο
 ρεία: 608\,235 \nστάση: 6η Ζωγράφου
SUMMARY:Θεατρικό παιχνίδι για παιδιά
URL:https://thessaloniki.kinimatorama.net/event/18431
END:VEVENT
END:VCALENDAR
