BEGIN:VCALENDAR
VERSION:2.0
PRODID:-//demosphere.net//NONSGML kigkonsult.se iCalcreator 2.22.1//
METHOD:REQUEST
X-WR-TIMEZONE:Europe/Athens
BEGIN:VEVENT
UID:https://thessaloniki.kinimatorama.net/event/18438
DTSTAMP:20120323T163000Z
DESCRIPTION:περισσότερες πληροφορίες: https://thessaloniki.kinimatorama.net
 /event/18438 
DTSTART:20120323T163000Z
DTEND:20120323T173000Z
GEO:+38.00095;+23.737762
LOCATION:Αθήνα\, \nΔημοτική Αγορά Κυψέλης \nΦωκίωνος Νέγρη 42
SUMMARY:O Carlos Latuff ζωγραφίζει για την Παλαιστίνη
URL:https://thessaloniki.kinimatorama.net/event/18438
END:VEVENT
END:VCALENDAR
