BEGIN:VCALENDAR
VERSION:2.0
PRODID:-//demosphere.net//NONSGML kigkonsult.se iCalcreator 2.22.1//
METHOD:REQUEST
X-WR-TIMEZONE:Europe/Athens
BEGIN:VEVENT
UID:https://thessaloniki.kinimatorama.net/event/18453
DTSTAMP:20120322T070000Z
DESCRIPTION:περισσότερες πληροφορίες: https://thessaloniki.kinimatorama.net
 /event/18453 
DTSTART:20120322T070000Z
DTEND:20120322T080000Z
GEO:+40.639326;+22.932823
LOCATION:Θεσσαλονίκη\, \nΔικαστήρια Θεσσαλονίκης
SUMMARY:Δίκη των Σκουλούδη\, Τζίφκα\, Τσιλιανίδη\, Δημτσιάδη\, Φεσσά
URL:https://thessaloniki.kinimatorama.net/event/18453
END:VEVENT
END:VCALENDAR
