BEGIN:VCALENDAR
VERSION:2.0
PRODID:-//demosphere.net//NONSGML kigkonsult.se iCalcreator 2.22.1//
METHOD:REQUEST
X-WR-TIMEZONE:Europe/Athens
BEGIN:VEVENT
UID:https://thessaloniki.kinimatorama.net/event/184546
DTSTAMP:20251208T100000Z
DESCRIPTION:περισσότερες πληροφορίες: https://thessaloniki.kinimatorama.net
 /event/184546 
DTSTART:20251208T100000Z
DTEND:20251208T110000Z
GEO:+37.995376;+23.743086
LOCATION:Αθήνα\, \nΔικαστήρια Ευελπίδων
SUMMARY:Συγκέντρωση αλληλεγγύης στους/ις συλληφθέντες/είσες της διαδήλωσης 
 της 6/12/25
URL:https://thessaloniki.kinimatorama.net/event/184546
END:VEVENT
END:VCALENDAR
