BEGIN:VCALENDAR
VERSION:2.0
PRODID:-//demosphere.net//NONSGML kigkonsult.se iCalcreator 2.22.1//
METHOD:REQUEST
X-WR-TIMEZONE:Europe/Athens
BEGIN:VEVENT
UID:https://thessaloniki.kinimatorama.net/event/18462
DTSTAMP:20120325T163000Z
DESCRIPTION:περισσότερες πληροφορίες: https://thessaloniki.kinimatorama.net
 /event/18462 
DTSTART:20120325T163000Z
DTEND:20120325T173000Z
GEO:+38.00095;+23.737762
LOCATION:Αθήνα\, \nΔημοτική Αγορά Κυψέλης \nΦωκίωνος Νέγρη 42
SUMMARY:Προβολή Η καρδιά του εργοστασίου & ενημέρωση συζήτηση
URL:https://thessaloniki.kinimatorama.net/event/18462
END:VEVENT
END:VCALENDAR
