BEGIN:VCALENDAR
VERSION:2.0
PRODID:-//demosphere.net//NONSGML kigkonsult.se iCalcreator 2.22.1//
METHOD:REQUEST
X-WR-TIMEZONE:Europe/Athens
BEGIN:VEVENT
UID:https://thessaloniki.kinimatorama.net/event/184728
DTSTAMP:20251211T070000Z
DESCRIPTION:περισσότερες πληροφορίες: https://thessaloniki.kinimatorama.net
 /event/184728 
DTSTART:20251211T070000Z
DTEND:20251211T080000Z
GEO:+37.995376;+23.743086
LOCATION:Αθήνα\, \nΔικαστήρια Ευελπίδων
SUMMARY:Δίκη κατά του ηθοποιού Λάμπρου Φιλίππου για απόπειρες βιασμού και β
 ιασμό
URL:https://thessaloniki.kinimatorama.net/event/184728
END:VEVENT
END:VCALENDAR
