BEGIN:VCALENDAR
VERSION:2.0
PRODID:-//demosphere.net//NONSGML kigkonsult.se iCalcreator 2.22.1//
METHOD:REQUEST
X-WR-TIMEZONE:Europe/Athens
BEGIN:VEVENT
UID:https://thessaloniki.kinimatorama.net/event/184924
DTSTAMP:20251217T100000Z
DESCRIPTION:περισσότερες πληροφορίες: https://thessaloniki.kinimatorama.net
 /event/184924 
DTSTART:20251217T100000Z
DTEND:20251217T110000Z
GEO:+40.633903;+22.95648
LOCATION:Θεσσαλονίκη\, \nΣχολή Θετικών Επιστημών (ΣΘΕ) ΑΠΘ
SUMMARY:Συνέλευση για την διοργάνωση της παρουσίασης της έκδοσης 'αειφανή α
 στέρια'
URL:https://thessaloniki.kinimatorama.net/event/184924
END:VEVENT
END:VCALENDAR
