BEGIN:VCALENDAR
VERSION:2.0
PRODID:-//demosphere.net//NONSGML kigkonsult.se iCalcreator 2.22.1//
METHOD:REQUEST
X-WR-TIMEZONE:Europe/Athens
BEGIN:VEVENT
UID:https://thessaloniki.kinimatorama.net/event/184965
DTSTAMP:20251218T083000Z
DESCRIPTION:περισσότερες πληροφορίες: https://thessaloniki.kinimatorama.net
 /event/184965 
DTSTART:20251218T083000Z
DTEND:20251218T093000Z
GEO:+37.995376;+23.743086
LOCATION:Αθήνα\, \nΔικαστήρια Ευελπίδων
SUMMARY:Συγκέντρωση αλληλεγγύης για συλληφθέντα της πορείας υπεράσπισης των
  Εξαρχείων
URL:https://thessaloniki.kinimatorama.net/event/184965
END:VEVENT
END:VCALENDAR
