BEGIN:VCALENDAR
VERSION:2.0
PRODID:-//demosphere.net//NONSGML kigkonsult.se iCalcreator 2.22.1//
METHOD:REQUEST
X-WR-TIMEZONE:Europe/Athens
BEGIN:VEVENT
UID:https://thessaloniki.kinimatorama.net/event/185199
DTSTAMP:20260321T170000Z
DESCRIPTION:περισσότερες πληροφορίες: https://thessaloniki.kinimatorama.net
 /event/185199 
DTSTART:20260321T170000Z
DTEND:20260321T180000Z
GEO:+37.987578;+23.735096
LOCATION:Αθήνα\, \nΚοινωνικό κέντρο Τσαμαδού 15 \nΤσαμαδού 15 \nΕξάρχεια
SUMMARY:Punk Against Capitalism Queerfem Live
URL:https://thessaloniki.kinimatorama.net/event/185199
END:VEVENT
END:VCALENDAR
