BEGIN:VCALENDAR
VERSION:2.0
PRODID:-//demosphere.net//NONSGML kigkonsult.se iCalcreator 2.22.1//
METHOD:REQUEST
X-WR-TIMEZONE:Europe/Athens
BEGIN:VEVENT
UID:https://thessaloniki.kinimatorama.net/event/185259
DTSTAMP:20260225T070000Z
DESCRIPTION:περισσότερες πληροφορίες: https://thessaloniki.kinimatorama.net
 /event/185259 
DTSTART:20260225T070000Z
DTEND:20260225T080000Z
GEO:+38.244158;+21.732406
LOCATION:Πάτρα\, \nΔικαστήρια Πάτρας \nΓούναρη
SUMMARY:Εφετείο των έγκλειστων συντρόφων Γ. Καρατσώλη και Σ. Τουτζιαράκη
URL:https://thessaloniki.kinimatorama.net/event/185259
END:VEVENT
END:VCALENDAR
