BEGIN:VCALENDAR
VERSION:2.0
PRODID:-//demosphere.net//NONSGML kigkonsult.se iCalcreator 2.22.1//
METHOD:REQUEST
X-WR-TIMEZONE:Europe/Athens
BEGIN:VEVENT
UID:https://thessaloniki.kinimatorama.net/event/185334
DTSTAMP:20260125T190000Z
DESCRIPTION:περισσότερες πληροφορίες: https://thessaloniki.kinimatorama.net
 /event/185334 
DTSTART:20260125T190000Z
DTEND:20260125T200000Z
GEO:+37.979198;+23.723922
LOCATION:Αθήνα\, \nΕλεύθερο Αυτοδιαχειριζόμενο Θέατρο Εμπρός \nΡήγα Παλαμήδ
 ου 2\, Ψυρρή \n(πλησίον σταθμού ΜΟΝΑΣΤΗΡΑΚΙ)
SUMMARY:Το Ποτάμι | Θεατρική Κολεκτίβα “Πρόκες”
URL:https://thessaloniki.kinimatorama.net/event/185334
END:VEVENT
END:VCALENDAR
