BEGIN:VCALENDAR
VERSION:2.0
PRODID:-//demosphere.net//NONSGML kigkonsult.se iCalcreator 2.22.1//
METHOD:REQUEST
X-WR-TIMEZONE:Europe/Athens
BEGIN:VEVENT
UID:https://thessaloniki.kinimatorama.net/event/185423
DTSTAMP:20260109T180000Z
DESCRIPTION:περισσότερες πληροφορίες: https://thessaloniki.kinimatorama.net
 /event/185423 
DTSTART:20260109T180000Z
DTEND:20260109T190000Z
GEO:+38.006049;+23.725857
LOCATION:Αθήνα\, \nΜανουσογιάννη 6 \nΆγιος Νικόλαος \n(3' περπάτημα από στα
 θμό ΗΣΑΠ ΑΓ.ΝΙΚΟΛΑΟΣ)
SUMMARY:Προβολή της ταινίας 'Beautiful Boxer' (2003)
URL:https://thessaloniki.kinimatorama.net/event/185423
END:VEVENT
END:VCALENDAR
