BEGIN:VCALENDAR
VERSION:2.0
PRODID:-//demosphere.net//NONSGML kigkonsult.se iCalcreator 2.22.1//
METHOD:REQUEST
X-WR-TIMEZONE:Europe/Athens
BEGIN:VEVENT
UID:https://thessaloniki.kinimatorama.net/event/185550
DTSTAMP:20260113T080000Z
DESCRIPTION:περισσότερες πληροφορίες: https://thessaloniki.kinimatorama.net
 /event/185550 
DTSTART:20260113T080000Z
DTEND:20260113T090000Z
GEO:+40.639326;+22.932823
LOCATION:Θεσσαλονίκη\, \nΔικαστήρια Θεσσαλονίκης
SUMMARY:Συγκέντρωση αλληλεγγύης για τους συλληφθέντες της συγκέντρωσης 16/0
 9/22 στο ΑΠΘ
URL:https://thessaloniki.kinimatorama.net/event/185550
END:VEVENT
END:VCALENDAR
