BEGIN:VCALENDAR
VERSION:2.0
PRODID:-//demosphere.net//NONSGML kigkonsult.se iCalcreator 2.22.1//
METHOD:REQUEST
X-WR-TIMEZONE:Europe/Athens
BEGIN:VEVENT
UID:https://thessaloniki.kinimatorama.net/event/185637
DTSTAMP:20260116T070000Z
DESCRIPTION:περισσότερες πληροφορίες: https://thessaloniki.kinimatorama.net
 /event/185637 
DTSTART:20260116T070000Z
DTEND:20260116T080000Z
GEO:+40.639326;+22.932823
LOCATION:Θεσσαλονίκη\, \nΔικαστήρια Θεσσαλονίκης
SUMMARY:Συγκέντρωση αλληλεγγύης για τα 16 συλληφθέντα της 6ης Δεκέμβρη 2023
URL:https://thessaloniki.kinimatorama.net/event/185637
END:VEVENT
END:VCALENDAR
