BEGIN:VCALENDAR
VERSION:2.0
PRODID:-//demosphere.net//NONSGML kigkonsult.se iCalcreator 2.22.1//
METHOD:REQUEST
X-WR-TIMEZONE:Europe/Athens
BEGIN:VEVENT
UID:https://thessaloniki.kinimatorama.net/event/185737
DTSTAMP:20260120T083000Z
DESCRIPTION:περισσότερες πληροφορίες: https://thessaloniki.kinimatorama.net
 /event/185737 
DTSTART:20260120T083000Z
DTEND:20260120T093000Z
GEO:+37.995376;+23.743086
LOCATION:Αθήνα\, \nΔικαστήρια Ευελπίδων
SUMMARY:Κάλεσμα σε συγκέντρωση αλληλεγγύης για την εκκένωση της ΦΕΠΑ (30/12
 /2020)
URL:https://thessaloniki.kinimatorama.net/event/185737
END:VEVENT
END:VCALENDAR
