BEGIN:VCALENDAR
VERSION:2.0
PRODID:-//demosphere.net//NONSGML kigkonsult.se iCalcreator 2.22.1//
METHOD:REQUEST
X-WR-TIMEZONE:Europe/Athens
BEGIN:VEVENT
UID:https://thessaloniki.kinimatorama.net/event/186063
DTSTAMP:20260126T160000Z
DESCRIPTION:περισσότερες πληροφορίες: https://thessaloniki.kinimatorama.net
 /event/186063 
DTSTART:20260126T160000Z
DTEND:20260126T170000Z
GEO:+39.555039;+21.767766
LOCATION:Τρίκαλα\, \nΠλατεία Ρήγα Φεραίου
SUMMARY:Συγκέντρωση Διαμαρτυρίας για τις νεκρές εργαζόμενες στη Βιολάντα
URL:https://thessaloniki.kinimatorama.net/event/186063
END:VEVENT
END:VCALENDAR
