BEGIN:VCALENDAR
VERSION:2.0
PRODID:-//demosphere.net//NONSGML kigkonsult.se iCalcreator 2.22.1//
METHOD:REQUEST
X-WR-TIMEZONE:Europe/Athens
BEGIN:VEVENT
UID:https://thessaloniki.kinimatorama.net/event/186069
DTSTAMP:20260129T183000Z
DESCRIPTION:περισσότερες πληροφορίες: https://thessaloniki.kinimatorama.net
 /event/186069 
DTSTART:20260129T183000Z
DTEND:20260129T193000Z
GEO:+40.633903;+22.95648
LOCATION:Θεσσαλονίκη\, \nΣχολή Θετικών Επιστημών (ΣΘΕ) ΑΠΘ
SUMMARY:Προβολή ντοκιμαντέρ: Ερείπια (Οροθετικές γυναίκες/Το χρονικό μιας δ
 ιαπόμπευσης)
URL:https://thessaloniki.kinimatorama.net/event/186069
END:VEVENT
END:VCALENDAR
