BEGIN:VCALENDAR
VERSION:2.0
PRODID:-//demosphere.net//NONSGML kigkonsult.se iCalcreator 2.22.1//
METHOD:REQUEST
X-WR-TIMEZONE:Europe/Athens
BEGIN:VEVENT
UID:https://thessaloniki.kinimatorama.net/event/18623
DTSTAMP:20120329T190000Z
DESCRIPTION:περισσότερες πληροφορίες: https://thessaloniki.kinimatorama.net
 /event/18623 
DTSTART:20120329T190000Z
DTEND:20120329T200000Z
GEO:+40.632845;+22.955744
LOCATION:Θεσσαλονίκη\, \nΠλατεία Χημείου \nΑΠΘ
SUMMARY:Συναυλία-Πάρτυ Οικονομικής Ενίσχυσης
URL:https://thessaloniki.kinimatorama.net/event/18623
END:VEVENT
END:VCALENDAR
