BEGIN:VCALENDAR
VERSION:2.0
PRODID:-//demosphere.net//NONSGML kigkonsult.se iCalcreator 2.22.1//
METHOD:REQUEST
X-WR-TIMEZONE:Europe/Athens
BEGIN:VEVENT
UID:https://thessaloniki.kinimatorama.net/event/186253
DTSTAMP:20260206T160000Z
DESCRIPTION:περισσότερες πληροφορίες: https://thessaloniki.kinimatorama.net
 /event/186253 
DTSTART:20260206T160000Z
DTEND:20260206T170000Z
GEO:+40.638356;+22.944316
LOCATION:Θεσσαλονίκη\, \nΕλευθεριακός χώρος Sabot \nΓκαρμπολά 2 \nΜπιτ Παζά
 ρ
SUMMARY:(αναβάλλεται) Πολιτικό καφενείο/ Διάθεση έντυπου υλικού
URL:https://thessaloniki.kinimatorama.net/event/186253
END:VEVENT
END:VCALENDAR
