BEGIN:VCALENDAR
VERSION:2.0
PRODID:-//demosphere.net//NONSGML kigkonsult.se iCalcreator 2.22.1//
METHOD:REQUEST
X-WR-TIMEZONE:Europe/Athens
BEGIN:VEVENT
UID:https://thessaloniki.kinimatorama.net/event/186255
DTSTAMP:20260216T190000Z
DESCRIPTION:περισσότερες πληροφορίες: https://thessaloniki.kinimatorama.net
 /event/186255 
DTSTART:20260216T190000Z
DTEND:20260216T200000Z
GEO:+40.638356;+22.944316
LOCATION:Θεσσαλονίκη\, \nΕλευθεριακός χώρος Sabot \nΓκαρμπολά 2 \nΜπιτ Παζά
 ρ
SUMMARY:Bar οικ. ενίσχυσης Ταμείου αλληλεγγύης φυλακισμένων και διωκόμενων 
 αγωνιστ(ρι)ών
URL:https://thessaloniki.kinimatorama.net/event/186255
END:VEVENT
END:VCALENDAR
