BEGIN:VCALENDAR
VERSION:2.0
PRODID:-//demosphere.net//NONSGML kigkonsult.se iCalcreator 2.22.1//
METHOD:REQUEST
X-WR-TIMEZONE:Europe/Athens
BEGIN:VEVENT
UID:https://thessaloniki.kinimatorama.net/event/18626
DTSTAMP:20120330T180000Z
DESCRIPTION:περισσότερες πληροφορίες: https://thessaloniki.kinimatorama.net
 /event/18626 
DTSTART:20120330T180000Z
DTEND:20120330T190000Z
GEO:+38.00095;+23.737762
LOCATION:Αθήνα\, \nΔημοτική Αγορά Κυψέλης \nΦωκίωνος Νέγρη 42
SUMMARY:Λαϊκό γλέντι οικονομικής ενίσχυσης των απεργών χαλυβουργών
URL:https://thessaloniki.kinimatorama.net/event/18626
END:VEVENT
END:VCALENDAR
