BEGIN:VCALENDAR
VERSION:2.0
PRODID:-//demosphere.net//NONSGML kigkonsult.se iCalcreator 2.22.1//
METHOD:REQUEST
X-WR-TIMEZONE:Europe/Athens
BEGIN:VEVENT
UID:https://thessaloniki.kinimatorama.net/event/186264
DTSTAMP:20260202T170000Z
DESCRIPTION:περισσότερες πληροφορίες: https://thessaloniki.kinimatorama.net
 /event/186264 
DTSTART:20260202T170000Z
DTEND:20260202T180000Z
GEO:+37.994079;+23.732083
LOCATION:Αθήνα\, \nΑΣΟΕΕ \nΠατησίων 76 (28ης Οκτωβρίου) \n(πλησίον σταθμού 
 ΗΣΑΠ Βικτώρια)
SUMMARY:Ανοιχτή συνέλευση για την διοργάνωση συγκέντρωσης στην Αθήνα για το
 ν Β.Μάγγο
URL:https://thessaloniki.kinimatorama.net/event/186264
END:VEVENT
END:VCALENDAR
