BEGIN:VCALENDAR
VERSION:2.0
PRODID:-//demosphere.net//NONSGML kigkonsult.se iCalcreator 2.22.1//
METHOD:REQUEST
X-WR-TIMEZONE:Europe/Athens
BEGIN:VEVENT
UID:https://thessaloniki.kinimatorama.net/event/186266
DTSTAMP:20260204T163000Z
DESCRIPTION:περισσότερες πληροφορίες: https://thessaloniki.kinimatorama.net
 /event/186266 
DTSTART:20260204T163000Z
DTEND:20260204T173000Z
GEO:+37.994079;+23.732083
LOCATION:Αθήνα\, \nΑΣΟΕΕ \nΠατησίων 76 (28ης Οκτωβρίου) \n(πλησίον σταθμού 
 ΗΣΑΠ Βικτώρια)
SUMMARY:Συνδιαμόρφωση της συγκέντρωσης κατα του 3ημερου φορουμ συνεργασιας 
 ελλαδας-'ισραηλ'
URL:https://thessaloniki.kinimatorama.net/event/186266
END:VEVENT
END:VCALENDAR
