BEGIN:VCALENDAR
VERSION:2.0
PRODID:-//demosphere.net//NONSGML kigkonsult.se iCalcreator 2.22.1//
METHOD:REQUEST
X-WR-TIMEZONE:Europe/Athens
BEGIN:VEVENT
UID:https://thessaloniki.kinimatorama.net/event/186317
DTSTAMP:20260209T160000Z
DESCRIPTION:περισσότερες πληροφορίες: https://thessaloniki.kinimatorama.net
 /event/186317 
DTSTART:20260209T160000Z
DTEND:20260209T170000Z
GEO:+40.638356;+22.944316
LOCATION:Θεσσαλονίκη\, \nΕλευθεριακός χώρος Sabot \nΓκαρμπολά 2 \nΜπιτ Παζά
 ρ
SUMMARY:Ανοιχτή συνέλευση ταμείου αλληλεγγύης φυλακισμένων και διωκόμενων α
 γωνιστ(ρι)ών
URL:https://thessaloniki.kinimatorama.net/event/186317
END:VEVENT
END:VCALENDAR
