BEGIN:VCALENDAR
VERSION:2.0
PRODID:-//demosphere.net//NONSGML kigkonsult.se iCalcreator 2.22.1//
METHOD:REQUEST
X-WR-TIMEZONE:Europe/Athens
BEGIN:VEVENT
UID:https://thessaloniki.kinimatorama.net/event/186328
DTSTAMP:20260203T083000Z
DESCRIPTION:περισσότερες πληροφορίες: https://thessaloniki.kinimatorama.net
 /event/186328 
DTSTART:20260203T083000Z
DTEND:20260203T093000Z
GEO:+37.995376;+23.743086
LOCATION:Αθήνα\, \nΔικαστήρια Ευελπίδων
SUMMARY:Συγκέντρωση αλληλεγγύης στη δίκη των συλληφθέντων της κατειλημμένης
  Πρυτανείας ΕΚΠΑ
URL:https://thessaloniki.kinimatorama.net/event/186328
END:VEVENT
END:VCALENDAR
