BEGIN:VCALENDAR
VERSION:2.0
PRODID:-//demosphere.net//NONSGML kigkonsult.se iCalcreator 2.22.1//
METHOD:REQUEST
X-WR-TIMEZONE:Europe/Athens
BEGIN:VEVENT
UID:https://thessaloniki.kinimatorama.net/event/186452
DTSTAMP:20260204T113000Z
DESCRIPTION:περισσότερες πληροφορίες: https://thessaloniki.kinimatorama.net
 /event/186452 
DTSTART:20260204T113000Z
DTEND:20260204T123000Z
GEO:+38.244158;+21.732406
LOCATION:Πάτρα\, \nΔικαστήρια Πάτρας \nΓούναρη
SUMMARY:Συγκέντρωση αλληλεγγύης στο διωκόμενο μέλος της αναρχικής ομάδας 'Δ
 υσήνιος ίππος'
URL:https://thessaloniki.kinimatorama.net/event/186452
END:VEVENT
END:VCALENDAR
