BEGIN:VCALENDAR
VERSION:2.0
PRODID:-//demosphere.net//NONSGML kigkonsult.se iCalcreator 2.22.1//
METHOD:REQUEST
X-WR-TIMEZONE:Europe/Athens
BEGIN:VEVENT
UID:https://thessaloniki.kinimatorama.net/event/186481
DTSTAMP:20260205T170000Z
DESCRIPTION:περισσότερες πληροφορίες: https://thessaloniki.kinimatorama.net
 /event/186481 
DTSTART:20260205T170000Z
DTEND:20260205T180000Z
GEO:+40.632094;+22.951837
LOCATION:Θεσσαλονίκη\, \nΚαμάρα \nΕγνατία 121
SUMMARY:[Θεσσαλονίκη] Συγκέντρωση για τη δολοφονία μεταναστ(ρι)ών από το Λι
 μενικό
URL:https://thessaloniki.kinimatorama.net/event/186481
END:VEVENT
END:VCALENDAR
