BEGIN:VCALENDAR
VERSION:2.0
PRODID:-//demosphere.net//NONSGML kigkonsult.se iCalcreator 2.22.1//
METHOD:REQUEST
X-WR-TIMEZONE:Europe/Athens
BEGIN:VEVENT
UID:https://thessaloniki.kinimatorama.net/event/186592
DTSTAMP:20260207T100000Z
DESCRIPTION:περισσότερες πληροφορίες: https://thessaloniki.kinimatorama.net
 /event/186592 
DTSTART:20260207T100000Z
DTEND:20260207T110000Z
GEO:+38.00095;+23.737762
LOCATION:Αθήνα\, \nΔημοτική Αγορά Κυψέλης \nΦωκίωνος Νέγρη 42
SUMMARY:Μικροφωνικές συγκεντρώσεις ενόψει της 28ης του Φλεβάρη
URL:https://thessaloniki.kinimatorama.net/event/186592
END:VEVENT
END:VCALENDAR
