BEGIN:VCALENDAR
VERSION:2.0
PRODID:-//demosphere.net//NONSGML kigkonsult.se iCalcreator 2.22.1//
METHOD:REQUEST
X-WR-TIMEZONE:Europe/Athens
BEGIN:VEVENT
UID:https://thessaloniki.kinimatorama.net/event/186649
DTSTAMP:20260211T110000Z
DESCRIPTION:περισσότερες πληροφορίες: https://thessaloniki.kinimatorama.net
 /event/186649 
DTSTART:20260211T110000Z
DTEND:20260211T120000Z
GEO:+40.632094;+22.951837
LOCATION:Θεσσαλονίκη\, \nΚαμάρα \nΕγνατία 121
SUMMARY:Συγκέντρωση για την υπόθεση βιασμού στο ΑΤ Ομόνοιας
URL:https://thessaloniki.kinimatorama.net/event/186649
END:VEVENT
END:VCALENDAR
