BEGIN:VCALENDAR
VERSION:2.0
PRODID:-//demosphere.net//NONSGML kigkonsult.se iCalcreator 2.22.1//
METHOD:REQUEST
X-WR-TIMEZONE:Europe/Athens
BEGIN:VEVENT
UID:https://thessaloniki.kinimatorama.net/event/186709
DTSTAMP:20260214T190000Z
DESCRIPTION:περισσότερες πληροφορίες: https://thessaloniki.kinimatorama.net
 /event/186709 
DTSTART:20260214T190000Z
DTEND:20260214T200000Z
GEO:+37.989867;+23.735633
LOCATION:Αθήνα\, \nΥπόγα Κ94 \nΚαλλιδρομίου 94 \nΕξάρχεια
SUMMARY:D.I.Y. live: In Absentia\, Parlons\, Hay Stealthy
URL:https://thessaloniki.kinimatorama.net/event/186709
END:VEVENT
END:VCALENDAR
